BEGIN:VCALENDAR
VERSION:2.0
PRODID:-//Mérték - ECPv6.15.20//NONSGML v1.0//EN
CALSCALE:GREGORIAN
METHOD:PUBLISH
X-ORIGINAL-URL:https://mertek.eu
X-WR-CALDESC:Események Mérték
REFRESH-INTERVAL;VALUE=DURATION:PT1H
X-Robots-Tag:noindex
X-PUBLISHED-TTL:PT1H
BEGIN:VTIMEZONE
TZID:UTC
BEGIN:STANDARD
TZOFFSETFROM:+0000
TZOFFSETTO:+0000
TZNAME:UTC
DTSTART:20110101T000000
END:STANDARD
END:VTIMEZONE
BEGIN:VEVENT
DTSTART;TZID=UTC:20120419T180000
DTEND;TZID=UTC:20120419T190000
DTSTAMP:20260421T114133
CREATED:20120413T061137Z
LAST-MODIFIED:20160915T061341Z
UID:1811-1334858400-1334862000@mertek.eu
SUMMARY:Sajtószabadság Café - Trendek az amerikai oknyomozó újságírásban
DESCRIPTION:Új irányzatok és üzleti modellek az oknyomozó újságírásban\nDavid Kaplan 30 perces bevezető előadását beszélgetés követi\, amelyet Mong Attila\, Soma-díjas újságíró vezet. A kerekasztal résztvevői: Lőke András\, a Soma Alapítvány kuratóriumának elnöke\, Bodoky Tamás\, Soma-díjas újságíró\, az atlatszo.hu szerkesztője\, Vorák Anita\, Soma-díjas újságíró\, az origo.hu munkatársa. \n  \nAz oknyomozó újságírás új irányáiról\, módszereiről és változó üzleti modelljéről tart előadást és képzést Budapesten David Kaplan a Gőbölyös József Soma Alapítvány meghívására a Független Médiaközpontban április 19-én és 20-án. David Kaplan a szervezett bűnözést és korropciós ügyeket feltáró Organized Crime and Corruption Reporting Project oknyomozó portáljának a szerkesztője. \n2008 és 2011 között David Kaplan ötven ország mintegy száz riporterének munkáját irányította az Oknyomozó Újságírók Nemzetközi Konzorciumának igazgatójaként. Ezt megelőzően a washingtoni U.S. News & World Report politikai hetilap vezető oknyomozó újságírója volt és ő indította a lapnál a Bad Guys (Rossz fiúk) blogot. \nKaplan csaknem 30 országból tudósított és munkáját több mint 20 újságírói díjjal ismerték el. Az Investigative Reporters and Editors Award kitüntetést négy alkalommal ítélte neki a szakma. Ismert munkái közé tartozik a yakuzáról\, a japán maffiáról írt 11 nyelvre lefordított könyv\, továbbá az a mű\, amely a tokói metróban az Aum szekta által végrehajtott ideggáztámadás körölményeit vizsgálja. Jelentetett meg írásokat még a szaúdiak által támogatott terrorcsoportokról\, Oroszország természeti kincseinek kifosztásáról és észak-koreai diplomaták illegális ügyeiről. \nIdőpont: 2012. április 19. csütörtök\, 18.00 óra \nHelyszín: Független Médiaközpont\, 1088 Budapest\, Vas u. 6. I.em.5. (Kapukód: 22)
URL:https://mertek.eu/esemeny/sajtoszabadsag-cafe-trendek-az-amerikai-oknyomozo-ujsagirasban/
LOCATION:Független Médiaközpont\, Vörösmarty utca 47/A\, Sajtóház\, 1. emelet\, Budapest\, 1064\, Magyarország
END:VEVENT
BEGIN:VEVENT
DTSTART;TZID=UTC:20120322T180000
DTEND;TZID=UTC:20120322T200000
DTSTAMP:20260421T114133
CREATED:20120319T071614Z
LAST-MODIFIED:20160915T061805Z
UID:1815-1332439200-1332446400@mertek.eu
SUMMARY:Sajtószabadság Café - Az elfelejtett fogyasztó
DESCRIPTION:Az elfelejtett fogyasztó – Médiafogyasztási szokások és lehetőségek \nA kerekasztal-beszélgetés résztvevői: \nGyőri Adél\, Millward Brown\nSzékely Levente\, Kutatópont\nVogl Artemon\, Budapesti Corvinus Egyetem \nA beszélgetést Urbán Ágnes\, a MéM tagja vezeti. \nIdőpont: 2012. március 22. 18 óra \nHelyszín: Független Médiaközpont\, 1088 Budapest\, Vas utca 6. I/5.\nMindenkit szeretettel várunk! \n\n\n\n\n\ncsütörtök\, március 22\, 2012 – 18:00\n\n\n\n\nFüggetlen Médiaközpont\, 1088 Budapest\, Vas utca 6. I/5.
URL:https://mertek.eu/esemeny/sajtoszabadsag-cafe-az-elfelejtett-fogyaszto/
LOCATION:Független Médiaközpont\, Vörösmarty utca 47/A\, Sajtóház\, 1. emelet\, Budapest\, 1064\, Magyarország
END:VEVENT
BEGIN:VEVENT
DTSTART;TZID=UTC:20120209T180000
DTEND;TZID=UTC:20120209T200000
DTSTAMP:20260421T114133
CREATED:20120319T071359Z
LAST-MODIFIED:20160915T061542Z
UID:1813-1328810400-1328817600@mertek.eu
SUMMARY:Sajtószabadság Café - Kell-e ide szabályozás\, vagy minden rendben?
DESCRIPTION:Kell-e ide szabályozás\, vagy minden rendben? Avagy milyen az újságírás etikai színvonala? \n  \nA kerekasztal-beszélgetés résztvevői: \nGyörgy Bence\, vezető szerkesztő\, TV2 \nMurányi Marcell\, főszerkesztő\, Blikk \nNehéz-Posony Márton ügyvéd\, a Magyar Újságírók Szövetségének jogi tanácsadója \nWeyer Balázs\, Főszerkesztők Fóruma \nA beszélgetést vezeti: Mong Attila\, a MéM tagja. \nA rendezvény helyszíne és időpontja: \nFüggetlen Médiaközpont\, 1088 Budapest\, Vas utca 6. I. em. 5. \n2012. február 9. (csütörtök) 18:00 \nMinden érdeklődőt szeretettel várunk! \n\n\n\n\n\ncsütörtök\, február 9\, 2012 – 18:00\n\n\n\n\nFüggetlen Médiaközpont\, 1088 Budapest\, Vas utca 6. I. em. 5.
URL:https://mertek.eu/esemeny/sajtoszabadsag-cafe-kell-e-ide-szabalyozas-vagy-minden-rendben/
LOCATION:Független Médiaközpont\, Vörösmarty utca 47/A\, Sajtóház\, 1. emelet\, Budapest\, 1064\, Magyarország
END:VEVENT
END:VCALENDAR